Workbook

Sheet Anleitung
A1: Notenverwaltung — Unterrichtshelden.de
A3: So funktioniert diese Vorlage:
A4: 1. Trage im Tab 'Notenliste' die Namen deiner Schüler:innen in Spalte A ein.
A5: 2. Trage jede Einzelnote in die gelb markierten Zellen ein (bis zu 3 pro Bereich).
A6: 3. Der Durchschnitt je Bereich und die Endnote werden automatisch berechnet.
A7: 4. Im Tab 'Gewichtung' legst du fest, wie stark jeder Bereich zählt (Summe = 100%).
A9: Gelb hinterlegte Zellen = hier trägst du Werte ein.
A10: Weiße Zellen mit Formeln = werden automatisch berechnet, bitte nicht überschreiben.
A11: Leere gelbe Zellen werden bei der Durchschnittsberechnung automatisch ignoriert.
A13: Hinweis zum Datenschutz: Speichere diese Datei nicht in einem öffentlichen Cloud-Ordner,
A14: wenn echte Schülernamen enthalten sind. Für die Weitergabe an Kolleg:innen ggf. Namen
A15: durch Kürzel ersetzen.

Sheet Gewichtung
A1: Gewichtung der Notenbereiche
A3: Bereich | B3: Gewichtung (%) | D3: Hinweis
A4: Mündliche Mitarbeit | B4: 0.3 | D4: Beteiligung, Mitarbeit im Unterricht
A5: Klassenarbeiten | B5: 0.4 | D5: Große schriftliche Leistungsnachweise
A6: Tests | B6: 0.2 | D6: Kurze schriftliche Überprüfungen
A7: Sonstige Leistungen | B7: 0.1 | D7: Referate, Hausaufgaben, Projekte
A8: Summe | B8: =SUM(B4:B7) -> 1

Sheet Notenliste
A1: Notenliste
A2: Klasse / Fach: [z.B. 7b Mathematik] | Schuljahr: [z.B. 2026/27]
B4: Mündlich | F4: Klassenarbeiten | J4: Tests | N4: Sonstiges | R4: Endnote
A5: Name | B5: 1 | C5: 2 | D5: 3 | E5: Ø | F5: 1 | G5: 2 | H5: 3 | I5: Ø | J5: 1 | K5: 2 | L5: 3 | M5: Ø | N5: 1 | O5: 2 | P5: 3 | Q5: Ø
A6: Max Mustermann (Beispiel) | B6: 2 | C6: 3 | E6: =IFERROR(AVERAGE(B6:D6),"") -> 2.5 | F6: 2 | I6: =IFERROR(AVERAGE(F6:H6),"") -> 2 | J6: 1 | K6: 2 | M6: =IFERROR(AVERAGE(J6:L6),"") -> 1.5 | N6: 2 | Q6: =IFERROR(AVERAGE(N6:P6),"") -> 2 | R6: =IFERROR(E6*Gewichtung!$B$4+I6*Gewichtung!$B$5+M6*Gewichtung!$B$6+Q6*Gewichtung!$B$7,"") -> 2.05
E7: =IFERROR(AVERAGE(B7:D7),"") | I7: =IFERROR(AVERAGE(F7:H7),"") | M7: =IFERROR(AVERAGE(J7:L7),"") | Q7: =IFERROR(AVERAGE(N7:P7),"") | R7: =IFERROR(E7*Gewichtung!$B$4+I7*Gewichtung!$B$5+M7*Gewichtung!$B$6+Q7*Gewichtung!$B$7,"")
E8: =IFERROR(AVERAGE(B8:D8),"") | I8: =IFERROR(AVERAGE(F8:H8),"") | M8: =IFERROR(AVERAGE(J8:L8),"") | Q8: =IFERROR(AVERAGE(N8:P8),"") | R8: =IFERROR(E8*Gewichtung!$B$4+I8*Gewichtung!$B$5+M8*Gewichtung!$B$6+Q8*Gewichtung!$B$7,"")
E9: =IFERROR(AVERAGE(B9:D9),"") | I9: =IFERROR(AVERAGE(F9:H9),"") | M9: =IFERROR(AVERAGE(J9:L9),"") | Q9: =IFERROR(AVERAGE(N9:P9),"") | R9: =IFERROR(E9*Gewichtung!$B$4+I9*Gewichtung!$B$5+M9*Gewichtung!$B$6+Q9*Gewichtung!$B$7,"")
E10: =IFERROR(AVERAGE(B10:D10),"") | I10: =IFERROR(AVERAGE(F10:H10),"") | M10: =IFERROR(AVERAGE(J10:L10),"") | Q10: =IFERROR(AVERAGE(N10:P10),"") | R10: =IFERROR(E10*Gewichtung!$B$4+I10*Gewichtung!$B$5+M10*Gewichtung!$B$6+Q10*Gewichtung!$B$7,"")
E11: =IFERROR(AVERAGE(B11:D11),"") | I11: =IFERROR(AVERAGE(F11:H11),"") | M11: =IFERROR(AVERAGE(J11:L11),"") | Q11: =IFERROR(AVERAGE(N11:P11),"") | R11: =IFERROR(E11*Gewichtung!$B$4+I11*Gewichtung!$B$5+M11*Gewichtung!$B$6+Q11*Gewichtung!$B$7,"")
E12: =IFERROR(AVERAGE(B12:D12),"") | I12: =IFERROR(AVERAGE(F12:H12),"") | M12: =IFERROR(AVERAGE(J12:L12),"") | Q12: =IFERROR(AVERAGE(N12:P12),"") | R12: =IFERROR(E12*Gewichtung!$B$4+I12*Gewichtung!$B$5+M12*Gewichtung!$B$6+Q12*Gewichtung!$B$7,"")
E13: =IFERROR(AVERAGE(B13:D13),"") | I13: =IFERROR(AVERAGE(F13:H13),"") | M13: =IFERROR(AVERAGE(J13:L13),"") | Q13: =IFERROR(AVERAGE(N13:P13),"") | R13: =IFERROR(E13*Gewichtung!$B$4+I13*Gewichtung!$B$5+M13*Gewichtung!$B$6+Q13*Gewichtung!$B$7,"")
E14: =IFERROR(AVERAGE(B14:D14),"") | I14: =IFERROR(AVERAGE(F14:H14),"") | M14: =IFERROR(AVERAGE(J14:L14),"") | Q14: =IFERROR(AVERAGE(N14:P14),"") | R14: =IFERROR(E14*Gewichtung!$B$4+I14*Gewichtung!$B$5+M14*Gewichtung!$B$6+Q14*Gewichtung!$B$7,"")
E15: =IFERROR(AVERAGE(B15:D15),"") | I15: =IFERROR(AVERAGE(F15:H15),"") | M15: =IFERROR(AVERAGE(J15:L15),"") | Q15: =IFERROR(AVERAGE(N15:P15),"") | R15: =IFERROR(E15*Gewichtung!$B$4+I15*Gewichtung!$B$5+M15*Gewichtung!$B$6+Q15*Gewichtung!$B$7,"")
E16: =IFERROR(AVERAGE(B16:D16),"") | I16: =IFERROR(AVERAGE(F16:H16),"") | M16: =IFERROR(AVERAGE(J16:L16),"") | Q16: =IFERROR(AVERAGE(N16:P16),"") | R16: =IFERROR(E16*Gewichtung!$B$4+I16*Gewichtung!$B$5+M16*Gewichtung!$B$6+Q16*Gewichtung!$B$7,"")
E17: =IFERROR(AVERAGE(B17:D17),"") | I17: =IFERROR(AVERAGE(F17:H17),"") | M17: =IFERROR(AVERAGE(J17:L17),"") | Q17: =IFERROR(AVERAGE(N17:P17),"") | R17: =IFERROR(E17*Gewichtung!$B$4+I17*Gewichtung!$B$5+M17*Gewichtung!$B$6+Q17*Gewichtung!$B$7,"")
E18: =IFERROR(AVERAGE(B18:D18),"") | I18: =IFERROR(AVERAGE(F18:H18),"") | M18: =IFERROR(AVERAGE(J18:L18),"") | Q18: =IFERROR(AVERAGE(N18:P18),"") | R18: =IFERROR(E18*Gewichtung!$B$4+I18*Gewichtung!$B$5+M18*Gewichtung!$B$6+Q18*Gewichtung!$B$7,"")
... E30: =IFERROR(AVERAGE(B30:D30),"") | I30: =IFERROR(AVERAGE(F30:H30),"") | M30: =IFERROR(AVERAGE(J30:L30),"") | Q30: =IFERROR(AVERAGE(N30:P30),"") | R30: =IFERROR(E30*Gewichtung!$B$4+I30*Gewichtung!$B$5+M30*Gewichtung!$B$6+Q30*Gewichtung!$B$7,"")
A32: Hinweis: Bis zu drei Einzelnoten je Bereich eintragen. Nicht benötigte Zellen leer lassen — sie werden bei 'Ø' automatisch ignoriert.
